BEGIN:VCALENDAR
VERSION:2.0
PRODID:-//Dominican Sisters of San Rafael - ECPv6.15.17.1//NONSGML v1.0//EN
CALSCALE:GREGORIAN
METHOD:PUBLISH
X-WR-CALNAME:Dominican Sisters of San Rafael
X-ORIGINAL-URL:https://sanrafaelop.org
X-WR-CALDESC:Events for Dominican Sisters of San Rafael
REFRESH-INTERVAL;VALUE=DURATION:PT1H
X-Robots-Tag:noindex
X-PUBLISHED-TTL:PT1H
BEGIN:VTIMEZONE
TZID:America/Los_Angeles
BEGIN:DAYLIGHT
TZOFFSETFROM:-0800
TZOFFSETTO:-0700
TZNAME:PDT
DTSTART:20250309T100000
END:DAYLIGHT
BEGIN:STANDARD
TZOFFSETFROM:-0700
TZOFFSETTO:-0800
TZNAME:PST
DTSTART:20251102T090000
END:STANDARD
BEGIN:DAYLIGHT
TZOFFSETFROM:-0800
TZOFFSETTO:-0700
TZNAME:PDT
DTSTART:20260308T100000
END:DAYLIGHT
BEGIN:STANDARD
TZOFFSETFROM:-0700
TZOFFSETTO:-0800
TZNAME:PST
DTSTART:20261101T090000
END:STANDARD
BEGIN:DAYLIGHT
TZOFFSETFROM:-0800
TZOFFSETTO:-0700
TZNAME:PDT
DTSTART:20270314T100000
END:DAYLIGHT
BEGIN:STANDARD
TZOFFSETFROM:-0700
TZOFFSETTO:-0800
TZNAME:PST
DTSTART:20271107T090000
END:STANDARD
END:VTIMEZONE
BEGIN:VEVENT
DTSTART;TZID=America/Los_Angeles:20260202T150000
DTEND;TZID=America/Los_Angeles:20260202T163000
DTSTAMP:20260420T053713
CREATED:20251218T234507Z
LAST-MODIFIED:20251218T234507Z
UID:16889-1770044400-1770049800@sanrafaelop.org
SUMMARY:Gather@Grand: Bible Short Stories . . Scriptured
DESCRIPTION:Join us for our Gather@Grand Winter Quarter Series: Bible Short Stories… Scriptured! \nThe stories we will read are in every Bible\, the same words\, but how we understand them can continue to grow and deepen\, including the story of Adam and Eve (December session)\, the story of Jonah (January session)\, and the story of Ruth (February session). \nJonah: Suppose God gives us a life experience we really do not want and are not enjoying\, have even tried to avoid. How might pushback work (ours and God’s)\, and how might we learn even from adventures we would rather not have had (at least while in the midst of them)—while appreciating them more later? \nJanuary 5\, 12\, 26 Monday afternoons: 3 – 4:15 pm \nRuth: Suppose we find ourselves in the middle of a set of situations we would never have chosen but can see that there are silver linings to them\, if we can shift our mood or interpretive framework a bit? What’s available? How do these characters show us how a “quarter-turn” works? \nFebruary 2\, 9\, 23 Monday afternoons 3 – 4:15 pm \nRegistration \n\nPlease register online (links below).\nThere is a Zoom option available. Email Sr. Barbara Green (barbara.green@sanrafaelop.org) if you would like links to December recordings.\nFeel free to invite others—please register them or ask them to register.\n\nMonday\, Jan. 5:\nhttps://lp.constantcontactpages.com/ev/reg/qhxrfm8 \nMonday\, Jan. 12:\nhttps://lp.constantcontactpages.com/ev/reg/eeafm6v \nMonday\, Jan. 26:\nhttps://lp.constantcontactpages.com/ev/reg/tdm8nca \nMonday\, Feb. 2:\nhttps://lp.constantcontactpages.com/ev/reg/dqertjp \nMonday\, Feb. 9:\nhttps://lp.constantcontactpages.com/ev/reg/mhdykjr \nMonday\, Feb. 23:\nhttps://lp.constantcontactpages.com/ev/reg/d7kcstu
URL:https://sanrafaelop.org/event/gathergrand-bible-short-stories-scriptured-3/
LOCATION:Dominican Sisters Gathering Space\, 1520 Grand Avenue\, San Rafael\, CA\, 94901
CATEGORIES:Gather@Grand
ATTACH;FMTTYPE=image/jpeg:https://sanrafaelop.org/wp-content/uploads/2025/11/Screenshot-2025-11-21-at-3.10.33-PM.jpg
ORGANIZER;CN="Dominican Sisters of San Rafael":MAILTO:communityrelations@sanrafaelop.org
END:VEVENT
BEGIN:VEVENT
DTSTART;TZID=America/Los_Angeles:20260209T150000
DTEND;TZID=America/Los_Angeles:20260209T163000
DTSTAMP:20260420T053713
CREATED:20251218T234628Z
LAST-MODIFIED:20251218T234628Z
UID:16891-1770649200-1770654600@sanrafaelop.org
SUMMARY:Gather@Grand: Bible Short Stories . . . Scriptured
DESCRIPTION:Join us for our Gather@Grand Winter Quarter Series: Bible Short Stories… Scriptured! \nThe stories we will read are in every Bible\, the same words\, but how we understand them can continue to grow and deepen\, including the story of Adam and Eve (December session)\, the story of Jonah (January session)\, and the story of Ruth (February session). \nJonah: Suppose God gives us a life experience we really do not want and are not enjoying\, have even tried to avoid. How might pushback work (ours and God’s)\, and how might we learn even from adventures we would rather not have had (at least while in the midst of them)—while appreciating them more later? \nJanuary 5\, 12\, 26 Monday afternoons: 3 – 4:15 pm \nRuth: Suppose we find ourselves in the middle of a set of situations we would never have chosen but can see that there are silver linings to them\, if we can shift our mood or interpretive framework a bit? What’s available? How do these characters show us how a “quarter-turn” works? \nFebruary 2\, 9\, 23 Monday afternoons 3 – 4:15 pm \nRegistration \n\nPlease register online (links below).\nThere is a Zoom option available. Email Sr. Barbara Green (barbara.green@sanrafaelop.org) if you would like links to December recordings.\nFeel free to invite others—please register them or ask them to register.\n\nMonday\, Jan. 5:\nhttps://lp.constantcontactpages.com/ev/reg/qhxrfm8 \nMonday\, Jan. 12:\nhttps://lp.constantcontactpages.com/ev/reg/eeafm6v \nMonday\, Jan. 26:\nhttps://lp.constantcontactpages.com/ev/reg/tdm8nca \nMonday\, Feb. 2:\nhttps://lp.constantcontactpages.com/ev/reg/dqertjp \nMonday\, Feb. 9:\nhttps://lp.constantcontactpages.com/ev/reg/mhdykjr \nMonday\, Feb. 23:\nhttps://lp.constantcontactpages.com/ev/reg/d7kcstu
URL:https://sanrafaelop.org/event/gathergrand-bible-short-stories-scriptured-4/
LOCATION:Dominican Sisters Gathering Space\, 1520 Grand Avenue\, San Rafael\, CA\, 94901
CATEGORIES:Gather@Grand
ATTACH;FMTTYPE=image/jpeg:https://sanrafaelop.org/wp-content/uploads/2025/11/Screenshot-2025-11-21-at-3.10.33-PM.jpg
ORGANIZER;CN="Dominican Sisters of San Rafael":MAILTO:communityrelations@sanrafaelop.org
END:VEVENT
BEGIN:VEVENT
DTSTART;TZID=America/Los_Angeles:20260223T150000
DTEND;TZID=America/Los_Angeles:20260223T163000
DTSTAMP:20260420T053713
CREATED:20251218T234728Z
LAST-MODIFIED:20251218T234728Z
UID:16892-1771858800-1771864200@sanrafaelop.org
SUMMARY:Gather@Grand: Bible Short Stories . . . Scriptured
DESCRIPTION:Join us for our Gather@Grand Winter Quarter Series: Bible Short Stories… Scriptured! \nThe stories we will read are in every Bible\, the same words\, but how we understand them can continue to grow and deepen\, including the story of Adam and Eve (December session)\, the story of Jonah (January session)\, and the story of Ruth (February session). \nJonah: Suppose God gives us a life experience we really do not want and are not enjoying\, have even tried to avoid. How might pushback work (ours and God’s)\, and how might we learn even from adventures we would rather not have had (at least while in the midst of them)—while appreciating them more later? \nJanuary 5\, 12\, 26 Monday afternoons: 3 – 4:15 pm \nRuth: Suppose we find ourselves in the middle of a set of situations we would never have chosen but can see that there are silver linings to them\, if we can shift our mood or interpretive framework a bit? What’s available? How do these characters show us how a “quarter-turn” works? \nFebruary 2\, 9\, 23 Monday afternoons 3 – 4:15 pm \nRegistration \n\nPlease register online (links below).\nThere is a Zoom option available. Email Sr. Barbara Green (barbara.green@sanrafaelop.org) if you would like links to December recordings.\nFeel free to invite others—please register them or ask them to register.\n\nMonday\, Jan. 5:\nhttps://lp.constantcontactpages.com/ev/reg/qhxrfm8 \nMonday\, Jan. 12:\nhttps://lp.constantcontactpages.com/ev/reg/eeafm6v \nMonday\, Jan. 26:\nhttps://lp.constantcontactpages.com/ev/reg/tdm8nca \nMonday\, Feb. 2:\nhttps://lp.constantcontactpages.com/ev/reg/dqertjp \nMonday\, Feb. 9:\nhttps://lp.constantcontactpages.com/ev/reg/mhdykjr \nMonday\, Feb. 23:\nhttps://lp.constantcontactpages.com/ev/reg/d7kcstu
URL:https://sanrafaelop.org/event/gathergrand-bible-short-stories-scriptured-5/
LOCATION:Dominican Sisters Gathering Space\, 1520 Grand Avenue\, San Rafael\, CA\, 94901
CATEGORIES:Gather@Grand
ATTACH;FMTTYPE=image/jpeg:https://sanrafaelop.org/wp-content/uploads/2025/11/Screenshot-2025-11-21-at-3.10.33-PM.jpg
ORGANIZER;CN="Dominican Sisters of San Rafael":MAILTO:communityrelations@sanrafaelop.org
END:VEVENT
END:VCALENDAR